BEGIN:VCALENDAR
PRODID:-//eluceo/ical//2.0/EN
VERSION:2.0
CALSCALE:GREGORIAN
BEGIN:VEVENT
UID:event-1077
DTSTAMP:20260425T122422Z
SUMMARY:Effective Job/ Internship Search Strategies & CV workshop
DESCRIPTION:Note: This workshop is only for students in their First or Seco
 nd year of the Bachelor. Are you a 1st or 2nd year Econometrics student lo
 oking to secure an internship\, working student position\, or part-time jo
 b\, but not sure where to start? Join this practical workshop\, delivered 
 by Career Services\, and learn how to approach your job search in a focuse
 d and effective way. In this session\, you’ll gain insight into how the 
 (Dutch) job market works\, how to identify relevant opportunities\, and ho
 w to use tools like LinkedIn and networking strategically. We will also co
 ver how to create a strong\, tailored CV that clearly presents your skills
  and stands out to recruiters. By the end of the workshop\, you’ll have 
 practical strategies to kickstart your job search and concrete tips to imp
 rove your CV right away. Date: 12th May 2026 Time: 15:00-16:30 Location: L
 angeveld 2.12 Trainer: Jannah Schraven
DTSTART:20260512T130000Z
DTEND:20260512T143000Z
LOCATION:Langeveld 2.12
END:VEVENT
BEGIN:VTIMEZONE
TZID:UTC
BEGIN:STANDARD
DTSTART:20260512T130000
TZNAME:UTC
TZOFFSETTO:+0000
TZOFFSETFROM:+0000
END:STANDARD
END:VTIMEZONE
END:VCALENDAR
