BEGIN:VCALENDAR
PRODID:-//eluceo/ical//2.0/EN
VERSION:2.0
CALSCALE:GREGORIAN
BEGIN:VEVENT
UID:event-463
DTSTAMP:20260425T194617Z
SUMMARY:Git Workshop by Robeco
DESCRIPTION:Note that this event is for students in their last year of Bach
 elor and Master. The biggest group project in the econometrics bachelor an
 d master is coming up: the Seminar! In groups of 4 you will be working on 
 a big assignment that will require a lot of programming. This online works
 hop will get you started on how to effectively develop and maintain your c
 ode while the entire group works on it simultaneously. You will no longer 
 have to send around functions with names like main_v2_final_thisonereallyi
 sfinal.py! The software programme git is perfect for collaborating on big 
 coding projects. Git is completely free of charge and works for any progr
 amming language. In this online workshop the quantitative investment depa
 rtment of Robeco will get you started with basic saving\, sharing and deve
 loping code via git and GitHub. After attending you will master the basics
  of git and hopefully be able to apply it to your own coding assignments. 
 During the workshop you will work in couples. You can either fill in the 
 name of your partner in the subscription form or let us assign a partner t
 o you. Note that you should have a way to communicate with your partner (
 via another call or by sitting in the same room) and that both people fro
 m a couple have to fill in the subscription form.
DTSTART:20201126T140000Z
DTEND:20201126T160000Z
LOCATION:Zoom
END:VEVENT
BEGIN:VTIMEZONE
TZID:UTC
BEGIN:STANDARD
DTSTART:20201126T140000
TZNAME:UTC
TZOFFSETTO:+0000
TZOFFSETFROM:+0000
END:STANDARD
END:VTIMEZONE
END:VCALENDAR
