BEGIN:VCALENDAR
PRODID:-//eluceo/ical//2.0/EN
VERSION:2.0
CALSCALE:GREGORIAN
BEGIN:VEVENT
UID:event-533
DTSTAMP:20260421T171823Z
SUMMARY:Apply for a Committee!
DESCRIPTION:Every year\, FAECTOR hosts multiple events and delivers a big n
 umber of publications to their members: From social drinks and parties\, t
 o publications such as the Estimator\, or formal career events with many e
 mployers. This can only be made possible with the help of our highly appre
 ciated active members who support the board of FAECTOR in creating great e
 vents for our members. In May 2021\, the following committees open up for 
 application: EC chairman FC chairman Excellence Programme Committee ICansu
 ltancy Committee IT Committee Why should you become an Active Member? Beco
 ming an Active Member is the best way to meet a lot of fellow students in 
 a short amount of time. Furthermore\, you get to join exclusive activities
  for Active Members: Active Members Day\, Active Members Weekend and man
 y more! Besides getting to know a lot of people and having the chance to p
 articipate in exclusive activities\, you will be able to develop your soci
 al\, organisational and teamwork skills and boost your CV. 
DTSTART:20210516T220000Z
DTEND:20210523T215959Z
LOCATION:Zoom
END:VEVENT
BEGIN:VTIMEZONE
TZID:UTC
BEGIN:STANDARD
DTSTART:20210516T220000
TZNAME:UTC
TZOFFSETTO:+0000
TZOFFSETFROM:+0000
END:STANDARD
END:VTIMEZONE
END:VCALENDAR
