BEGIN:VCALENDAR
PRODID:-//eluceo/ical//2.0/EN
VERSION:2.0
CALSCALE:GREGORIAN
BEGIN:VEVENT
UID:event-853
DTSTAMP:20260421T092457Z
SUMMARY:FAECTOR Consultancy Project Information Session
DESCRIPTION:On 7 March at 17:00\, the information session for the FAECTOR C
 onsultancy Project 2024 will take place at Langeveld 2.09. Would you like
  to know more about this project\, what kind of cases we have to offer or 
 the timeline and workload? We will give a short presentation about the pro
 ject. After that\, you can ask all the questions you have left about the F
 CP or the application procedure. We hope to see you there!
DTSTART:20240307T160000Z
DTEND:20240307T170000Z
LOCATION:Campus\, Langeveld 2.09
END:VEVENT
BEGIN:VTIMEZONE
TZID:UTC
BEGIN:STANDARD
DTSTART:20240307T160000
TZNAME:UTC
TZOFFSETTO:+0000
TZOFFSETFROM:+0000
END:STANDARD
END:VTIMEZONE
END:VCALENDAR
