BEGIN:VCALENDAR
PRODID:-//eluceo/ical//2.0/EN
VERSION:2.0
CALSCALE:GREGORIAN
BEGIN:VEVENT
UID:event-909
DTSTAMP:20260419T192828Z
SUMMARY:Apply for a Committee!
DESCRIPTION:Every year\, FAECTOR hosts a lot of events: from social drinks 
 and parties to workshops or formal career events with many employers. We a
 lso deliver a big number of publications\, for example on our online platf
 orm Estimator. This can only be made possible with the help of our highly 
 appreciated committee members who support the board of FAECTOR. As a commi
 ttee member you will not only create amazing events\, but also enjoy a leg
 endary year as an active member of FAECTOR! In June 2024\, we are recruiti
 ng new committee members again. The following committees are opening up: -
  Estimator Committee - Excellence Committee - Chair of the Freshmen Commi
 ttee - Chair of the Eerstejaarscommissie Furthermore\, due to our newly an
 nounced board\, positions in the Econometric Career Days Committee and Re
 cruitment Committee are opening up. For the Econometric Career Days Comm
 ittee the positions of Chair and Day Coordinator are available. You can f
 ind more information about the ECD and Recruitment Committee in this bookl
 et. Why should you become an Active Member? Becoming an Active Member is t
 he best way to meet a lot of fellow students in a short amount of time. Fu
 rthermore\, you get to join exclusive activities for Active Members: Acti
 ve Members Day\, Active Members Weekend and many more! Besides getting to
  know a lot of people and having the chance to participate in exclusive ac
 tivities\, you will be able to develop your social\, organisational and te
 amwork skills and boost your CV. 
DTSTART:20240529T063454Z
DTEND:20240616T215959Z
END:VEVENT
BEGIN:VTIMEZONE
TZID:UTC
BEGIN:STANDARD
DTSTART:20240529T063454
TZNAME:UTC
TZOFFSETTO:+0000
TZOFFSETFROM:+0000
END:STANDARD
END:VTIMEZONE
END:VCALENDAR
